Package: scp Version: 1.19.3 Command: F:\biocbuild\bbs-3.22-bioc\R\bin\R.exe CMD INSTALL scp StartedAt: 2025-07-17 16:14:53 -0400 (Thu, 17 Jul 2025) EndedAt: 2025-07-17 16:15:42 -0400 (Thu, 17 Jul 2025) EllapsedTime: 48.7 seconds RetCode: 0 Status: OK