Package: scp Version: 1.19.3 Command: F:\biocbuild\bbs-3.22-bioc\R\bin\R.exe CMD check --no-multiarch --install=check:scp.install-out.txt --library=F:\biocbuild\bbs-3.22-bioc\R\library --no-vignettes --timings scp_1.19.3.tar.gz StartedAt: 2025-07-18 06:20:46 -0400 (Fri, 18 Jul 2025) EndedAt: 2025-07-18 06:33:08 -0400 (Fri, 18 Jul 2025) EllapsedTime: 742.3 seconds RetCode: 0 Status: WARNINGS CheckDir: scp.Rcheck Warnings: 1