Package: scp Version: 1.19.3 Command: chmod a+r scp -R && F:\biocbuild\bbs-3.22-bioc\R\bin\R.exe CMD build --keep-empty-dirs --no-resave-data scp StartedAt: 2025-07-17 21:54:41 -0400 (Thu, 17 Jul 2025) EndedAt: 2025-07-17 22:00:10 -0400 (Thu, 17 Jul 2025) EllapsedTime: 329.1 seconds RetCode: 0 Status: OK PackageFile: scp_1.19.3.tar.gz PackageFileSize: 6.704 MiB