Package: scp Version: 1.19.2 Command: /Library/Frameworks/R.framework/Resources/bin/R CMD INSTALL scp StartedAt: 2025-07-03 15:19:08 -0400 (Thu, 03 Jul 2025) EndedAt: 2025-07-03 15:19:20 -0400 (Thu, 03 Jul 2025) EllapsedTime: 12.4 seconds RetCode: 0 Status: OK