Package: scoup Version: 1.3.0 Command: /home/biocbuild/R/R/bin/R CMD INSTALL scoup StartedAt: 2025-10-02 20:35:57 -0000 (Thu, 02 Oct 2025) EndedAt: 2025-10-02 20:36:15 -0000 (Thu, 02 Oct 2025) EllapsedTime: 17.4 seconds RetCode: 0 Status: OK