Package: scoreInvHap Version: 1.31.0 Command: F:\biocbuild\bbs-3.22-bioc\R\bin\R.exe CMD check --no-multiarch --install=check:scoreInvHap.install-out.txt --library=F:\biocbuild\bbs-3.22-bioc\R\library --no-vignettes --timings scoreInvHap_1.31.0.tar.gz StartedAt: 2025-07-02 06:15:36 -0400 (Wed, 02 Jul 2025) EndedAt: 2025-07-02 06:21:13 -0400 (Wed, 02 Jul 2025) EllapsedTime: 337.4 seconds RetCode: 0 Status: OK CheckDir: scoreInvHap.Rcheck Warnings: 0