Package: scone Version: 1.33.0 Command: /home/biocbuild/R/R/bin/R CMD INSTALL scone StartedAt: 2025-07-14 21:17:47 -0000 (Mon, 14 Jul 2025) EndedAt: 2025-07-14 21:18:57 -0000 (Mon, 14 Jul 2025) EllapsedTime: 70.1 seconds RetCode: 0 Status: OK