Package: scone Version: 1.33.0 Command: chmod a+r scone -R && F:\biocbuild\bbs-3.22-bioc\R\bin\R.exe CMD build --keep-empty-dirs --no-resave-data scone StartedAt: 2025-07-24 22:10:02 -0400 (Thu, 24 Jul 2025) EndedAt: 2025-07-24 22:13:46 -0400 (Thu, 24 Jul 2025) EllapsedTime: 223.5 seconds RetCode: 0 Status: OK PackageFile: scone_1.33.0.tar.gz PackageFileSize: 847.3 KiB