Package: scone Version: 1.33.0 Command: rm -rf scone.buildbin-libdir && mkdir scone.buildbin-libdir && F:\biocbuild\bbs-3.22-bioc\R\bin\R.exe CMD INSTALL --build --library=scone.buildbin-libdir scone_1.33.0.tar.gz StartedAt: 2025-07-25 10:15:28 -0400 (Fri, 25 Jul 2025) EndedAt: 2025-07-25 10:16:54 -0400 (Fri, 25 Jul 2025) EllapsedTime: 86.9 seconds RetCode: 0 Status: OK PackageFile: scone_1.33.0.zip PackageFileSize: 1.016 MiB