Package: scone Version: 1.33.0 Command: /home/biocbuild/bbs-3.22-bioc/R/bin/R CMD INSTALL scone StartedAt: 2025-07-01 15:51:47 -0400 (Tue, 01 Jul 2025) EndedAt: 2025-07-01 15:52:39 -0400 (Tue, 01 Jul 2025) EllapsedTime: 52.1 seconds RetCode: 0 Status: OK