Package: scone Version: 1.33.0 Command: /Library/Frameworks/R.framework/Resources/bin/R CMD check --install=check:scone.install-out.txt --library=/Library/Frameworks/R.framework/Resources/library --no-vignettes --timings scone_1.33.0.tar.gz StartedAt: 2025-07-11 21:18:55 -0400 (Fri, 11 Jul 2025) EndedAt: 2025-07-11 21:23:08 -0400 (Fri, 11 Jul 2025) EllapsedTime: 253.0 seconds RetCode: 0 Status: OK CheckDir: scone.Rcheck Warnings: 0