Package: scmeth Version: 1.29.0 Command: F:\biocbuild\bbs-3.22-bioc\R\bin\R.exe CMD check --no-multiarch --install=check:scmeth.install-out.txt --library=F:\biocbuild\bbs-3.22-bioc\R\library --no-vignettes --timings scmeth_1.29.0.tar.gz StartedAt: 2025-06-23 05:38:17 -0400 (Mon, 23 Jun 2025) EndedAt: 2025-06-23 05:46:17 -0400 (Mon, 23 Jun 2025) EllapsedTime: 480.3 seconds RetCode: 0 Status: OK CheckDir: scmeth.Rcheck Warnings: 0