Package: scider Version: 1.7.0 Command: F:\biocbuild\bbs-3.22-bioc\R\bin\R.exe CMD check --no-multiarch --install=check:scider.install-out.txt --library=F:\biocbuild\bbs-3.22-bioc\R\library --no-vignettes --timings scider_1.7.0.tar.gz StartedAt: 2025-07-14 06:19:25 -0400 (Mon, 14 Jul 2025) EndedAt: 2025-07-14 06:27:32 -0400 (Mon, 14 Jul 2025) EllapsedTime: 486.8 seconds RetCode: 0 Status: OK CheckDir: scider.Rcheck Warnings: 0