Package: scider Version: 1.7.1 Command: /Library/Frameworks/R.framework/Resources/bin/R CMD INSTALL scider StartedAt: 2025-10-05 15:12:55 -0400 (Sun, 05 Oct 2025) EndedAt: 2025-10-05 15:12:57 -0400 (Sun, 05 Oct 2025) EllapsedTime: 1.3 seconds RetCode: 1 Status: ERROR