Package: scider Version: 1.7.1 Command: /Library/Frameworks/R.framework/Resources/bin/R CMD build --keep-empty-dirs --no-resave-data scider StartedAt: 2025-10-05 17:41:38 -0400 (Sun, 05 Oct 2025) EndedAt: 2025-10-05 17:41:40 -0400 (Sun, 05 Oct 2025) EllapsedTime: 2.0 seconds RetCode: 1 Status: ERROR PackageFile: None PackageFileSize: NA