Package: scider Version: 1.7.0 Command: rm -rf scider.buildbin-libdir && mkdir scider.buildbin-libdir && /Users/biocbuild/BBS/utils/build-universal.sh scider_1.7.0.tar.gz /Library/Frameworks/R.framework/Resources/bin/R scider.buildbin-libdir StartedAt: 2025-10-02 23:19:16 -0400 (Thu, 02 Oct 2025) EndedAt: 2025-10-02 23:19:29 -0400 (Thu, 02 Oct 2025) EllapsedTime: 13.3 seconds RetCode: 0 Status: OK PackageFile: scider_1.7.0.tgz PackageFileSize: 2.965 MiB