Package: schex Version: 1.23.0 Command: /home/biocbuild/R/R/bin/R CMD check --install=check:schex.install-out.txt --library=/home/biocbuild/R/R/site-library --no-vignettes --timings schex_1.23.0.tar.gz StartedAt: 2025-06-27 11:08:27 -0000 (Fri, 27 Jun 2025) EndedAt: 2025-06-27 11:16:43 -0000 (Fri, 27 Jun 2025) EllapsedTime: 495.5 seconds RetCode: 0 Status: OK CheckDir: schex.Rcheck Warnings: 0