Package: schex Version: 1.23.0 Command: /Library/Frameworks/R.framework/Resources/bin/R CMD check --install=check:schex.install-out.txt --library=/Library/Frameworks/R.framework/Resources/library --no-vignettes --timings schex_1.23.0.tar.gz StartedAt: 2025-06-29 23:08:38 -0400 (Sun, 29 Jun 2025) EndedAt: 2025-06-29 23:15:31 -0400 (Sun, 29 Jun 2025) EllapsedTime: 413.2 seconds RetCode: 0 Status: OK CheckDir: schex.Rcheck Warnings: 0