Package: scds Version: 1.25.0 Command: /Library/Frameworks/R.framework/Resources/bin/R CMD INSTALL scds StartedAt: 2025-06-29 15:19:08 -0400 (Sun, 29 Jun 2025) EndedAt: 2025-06-29 15:19:40 -0400 (Sun, 29 Jun 2025) EllapsedTime: 32.5 seconds RetCode: 0 Status: OK