Package: scds Version: 1.25.0 Command: /Library/Frameworks/R.framework/Resources/bin/R CMD build --keep-empty-dirs --no-resave-data scds StartedAt: 2025-06-29 18:11:28 -0400 (Sun, 29 Jun 2025) EndedAt: 2025-06-29 18:12:35 -0400 (Sun, 29 Jun 2025) EllapsedTime: 67.3 seconds RetCode: 0 Status: OK PackageFile: scds_1.25.0.tar.gz PackageFileSize: 1.416 MiB