Package: scde Version: 2.37.0 Command: /home/biocbuild/bbs-3.22-bioc/R/bin/R CMD INSTALL scde StartedAt: 2025-07-01 15:12:01 -0400 (Tue, 01 Jul 2025) EndedAt: 2025-07-01 15:12:54 -0400 (Tue, 01 Jul 2025) EllapsedTime: 52.7 seconds RetCode: 0 Status: OK