Package: scde Version: 2.37.0 Command: /home/biocbuild/bbs-3.22-bioc/R/bin/R CMD build --keep-empty-dirs --no-resave-data --md5 scde StartedAt: 2025-07-01 19:01:26 -0400 (Tue, 01 Jul 2025) EndedAt: 2025-07-01 19:01:28 -0400 (Tue, 01 Jul 2025) EllapsedTime: 2.0 seconds RetCode: 0 Status: OK PackageFile: scde_2.37.0.tar.gz PackageFileSize: 1.061 MiB