Package: sccomp Version: 2.1.8 Command: /home/biocbuild/R/R/bin/R CMD INSTALL sccomp StartedAt: 2025-07-07 20:26:20 -0000 (Mon, 07 Jul 2025) EndedAt: 2025-07-07 20:27:02 -0000 (Mon, 07 Jul 2025) EllapsedTime: 42.3 seconds RetCode: 0 Status: OK