Package: sccomp Version: 2.1.8 Command: /Library/Frameworks/R.framework/Resources/bin/R CMD check --install=check:sccomp.install-out.txt --library=/Library/Frameworks/R.framework/Resources/library --no-vignettes --timings sccomp_2.1.8.tar.gz StartedAt: 2025-07-04 21:13:41 -0400 (Fri, 04 Jul 2025) EndedAt: 2025-07-04 21:15:04 -0400 (Fri, 04 Jul 2025) EllapsedTime: 83.0 seconds RetCode: 0 Status: OK CheckDir: sccomp.Rcheck Warnings: 0