Package: sccomp Version: 2.1.8 Command: /Library/Frameworks/R.framework/Resources/bin/R CMD build --keep-empty-dirs --no-resave-data sccomp StartedAt: 2025-07-04 17:27:02 -0400 (Fri, 04 Jul 2025) EndedAt: 2025-07-04 17:27:29 -0400 (Fri, 04 Jul 2025) EllapsedTime: 26.3 seconds RetCode: 0 Status: OK PackageFile: sccomp_2.1.8.tar.gz PackageFileSize: 3.415 MiB