Package: sccomp Version: 2.1.8 Command: rm -rf sccomp.buildbin-libdir && mkdir sccomp.buildbin-libdir && /Users/biocbuild/BBS/utils/build-universal.sh sccomp_2.1.8.tar.gz /Library/Frameworks/R.framework/Resources/bin/R sccomp.buildbin-libdir StartedAt: 2025-07-04 22:33:09 -0400 (Fri, 04 Jul 2025) EndedAt: 2025-07-04 22:33:23 -0400 (Fri, 04 Jul 2025) EllapsedTime: 14.2 seconds RetCode: 0 Status: OK PackageFile: sccomp_2.1.8.tgz PackageFileSize: 6.59 MiB