Package: scatterHatch Version: 1.15.0 Command: /Library/Frameworks/R.framework/Resources/bin/R CMD check --install=check:scatterHatch.install-out.txt --library=/Library/Frameworks/R.framework/Resources/library --no-vignettes --timings scatterHatch_1.15.0.tar.gz StartedAt: 2025-07-11 23:21:25 -0400 (Fri, 11 Jul 2025) EndedAt: 2025-07-11 23:23:04 -0400 (Fri, 11 Jul 2025) EllapsedTime: 99.5 seconds RetCode: 0 Status: OK CheckDir: scatterHatch.Rcheck Warnings: 0