Package: scatterHatch Version: 1.15.0 Command: /Library/Frameworks/R.framework/Resources/bin/R CMD build --keep-empty-dirs --no-resave-data scatterHatch StartedAt: 2025-07-11 18:20:46 -0400 (Fri, 11 Jul 2025) EndedAt: 2025-07-11 18:21:20 -0400 (Fri, 11 Jul 2025) EllapsedTime: 34.2 seconds RetCode: 0 Status: OK PackageFile: scatterHatch_1.15.0.tar.gz PackageFileSize: 3.861 MiB