Package: scatterHatch Version: 1.15.0 Command: rm -rf scatterHatch.buildbin-libdir && mkdir scatterHatch.buildbin-libdir && /Users/biocbuild/BBS/utils/build-universal.sh scatterHatch_1.15.0.tar.gz /Library/Frameworks/R.framework/Resources/bin/R scatterHatch.buildbin-libdir StartedAt: 2025-07-12 01:17:29 -0400 (Sat, 12 Jul 2025) EndedAt: 2025-07-12 01:17:43 -0400 (Sat, 12 Jul 2025) EllapsedTime: 13.7 seconds RetCode: 0 Status: OK PackageFile: scatterHatch_1.15.0.tgz PackageFileSize: 3.902 MiB