Package: scater Version: 1.37.0 Command: /home/biocbuild/R/R/bin/R CMD build --keep-empty-dirs --no-resave-data scater StartedAt: 2025-06-27 02:23:53 -0000 (Fri, 27 Jun 2025) EndedAt: 2025-06-27 02:27:25 -0000 (Fri, 27 Jun 2025) EllapsedTime: 212.3 seconds RetCode: 0 Status: OK PackageFile: scater_1.37.0.tar.gz PackageFileSize: 2.156 MiB