Package: scater Version: 1.37.0 Command: rm -rf scater.buildbin-libdir && mkdir scater.buildbin-libdir && F:\biocbuild\bbs-3.22-bioc\R\bin\R.exe CMD INSTALL --build --library=scater.buildbin-libdir scater_1.37.0.tar.gz StartedAt: 2025-06-30 09:41:38 -0400 (Mon, 30 Jun 2025) EndedAt: 2025-06-30 09:42:39 -0400 (Mon, 30 Jun 2025) EllapsedTime: 60.7 seconds RetCode: 0 Status: OK PackageFile: scater_1.37.0.zip PackageFileSize: 2.382 MiB