Package: scater Version: 1.37.0 Command: /Library/Frameworks/R.framework/Resources/bin/R CMD INSTALL scater StartedAt: 2025-06-29 15:44:40 -0400 (Sun, 29 Jun 2025) EndedAt: 2025-06-29 15:45:19 -0400 (Sun, 29 Jun 2025) EllapsedTime: 39.0 seconds RetCode: 0 Status: OK