Package: scater Version: 1.37.0 Command: /Library/Frameworks/R.framework/Resources/bin/R CMD check --install=check:scater.install-out.txt --library=/Library/Frameworks/R.framework/Resources/library --no-vignettes --timings scater_1.37.0.tar.gz StartedAt: 2025-06-29 23:05:12 -0400 (Sun, 29 Jun 2025) EndedAt: 2025-06-29 23:13:17 -0400 (Sun, 29 Jun 2025) EllapsedTime: 484.0 seconds RetCode: 0 Status: OK CheckDir: scater.Rcheck Warnings: 0