Package: scater Version: 1.37.0 Command: /Library/Frameworks/R.framework/Resources/bin/R CMD build --keep-empty-dirs --no-resave-data scater StartedAt: 2025-06-29 18:09:54 -0400 (Sun, 29 Jun 2025) EndedAt: 2025-06-29 18:12:35 -0400 (Sun, 29 Jun 2025) EllapsedTime: 161.1 seconds RetCode: 0 Status: OK PackageFile: scater_1.37.0.tar.gz PackageFileSize: 4.315 MiB