Package: scater Version: 1.37.0 Command: /Library/Frameworks/R.framework/Resources/bin/R CMD INSTALL scater StartedAt: 2025-07-04 15:28:14 -0400 (Fri, 04 Jul 2025) EndedAt: 2025-07-04 15:28:25 -0400 (Fri, 04 Jul 2025) EllapsedTime: 11.4 seconds RetCode: 0 Status: OK