Package: scater Version: 1.37.0 Command: /Library/Frameworks/R.framework/Resources/bin/R CMD check --install=check:scater.install-out.txt --library=/Library/Frameworks/R.framework/Resources/library --no-vignettes --timings scater_1.37.0.tar.gz StartedAt: 2025-07-07 21:11:14 -0400 (Mon, 07 Jul 2025) EndedAt: 2025-07-07 21:14:14 -0400 (Mon, 07 Jul 2025) EllapsedTime: 180.2 seconds RetCode: 1 Status: ERROR CheckDir: scater.Rcheck Warnings: NA