Package: scater Version: 1.37.0 Command: rm -rf scater.buildbin-libdir && mkdir scater.buildbin-libdir && /Users/biocbuild/BBS/utils/build-universal.sh scater_1.37.0.tar.gz /Library/Frameworks/R.framework/Resources/bin/R scater.buildbin-libdir StartedAt: 2025-07-04 22:33:02 -0400 (Fri, 04 Jul 2025) EndedAt: 2025-07-04 22:33:15 -0400 (Fri, 04 Jul 2025) EllapsedTime: 13.2 seconds RetCode: 0 Status: OK PackageFile: scater_1.37.0.tgz PackageFileSize: 4.734 MiB