Package: scanMiRApp Version: 1.15.0 Command: F:\biocbuild\bbs-3.22-bioc\R\bin\R.exe CMD check --no-multiarch --install=check:scanMiRApp.install-out.txt --library=F:\biocbuild\bbs-3.22-bioc\R\library --no-vignettes --timings scanMiRApp_1.15.0.tar.gz StartedAt: 2025-08-15 07:27:13 -0400 (Fri, 15 Aug 2025) EndedAt: 2025-08-15 07:33:45 -0400 (Fri, 15 Aug 2025) EllapsedTime: 392.2 seconds RetCode: 0 Status: OK CheckDir: scanMiRApp.Rcheck Warnings: 0