Package: scafari Version: 0.99.12 Command: /home/biocbuild/R/R/bin/R CMD build --keep-empty-dirs --no-resave-data scafari StartedAt: 2025-10-03 02:51:04 -0000 (Fri, 03 Oct 2025) EndedAt: 2025-10-03 02:55:48 -0000 (Fri, 03 Oct 2025) EllapsedTime: 284.2 seconds RetCode: 0 Status: OK PackageFile: scafari_0.99.12.tar.gz PackageFileSize: 7.649 MiB