Package: scTensor Version: 2.19.2 Command: /home/biocbuild/R/R/bin/R CMD build --keep-empty-dirs --no-resave-data scTensor StartedAt: 2025-07-15 02:52:19 -0000 (Tue, 15 Jul 2025) EndedAt: 2025-07-15 02:55:23 -0000 (Tue, 15 Jul 2025) EllapsedTime: 184.2 seconds RetCode: 0 Status: OK PackageFile: scTensor_2.19.2.tar.gz PackageFileSize: 10.38 MiB