Package: scTensor Version: 2.19.2 Command: F:\biocbuild\bbs-3.22-bioc\R\bin\R.exe CMD INSTALL scTensor StartedAt: 2025-07-01 16:39:18 -0400 (Tue, 01 Jul 2025) EndedAt: 2025-07-01 16:41:00 -0400 (Tue, 01 Jul 2025) EllapsedTime: 102.4 seconds RetCode: 0 Status: OK