Package: scTensor Version: 2.19.2 Command: chmod a+r scTensor -R && F:\biocbuild\bbs-3.22-bioc\R\bin\R.exe CMD build --keep-empty-dirs --no-resave-data scTensor StartedAt: 2025-07-01 21:59:17 -0400 (Tue, 01 Jul 2025) EndedAt: 2025-07-01 22:02:01 -0400 (Tue, 01 Jul 2025) EllapsedTime: 164.3 seconds RetCode: 0 Status: OK PackageFile: scTensor_2.19.2.tar.gz PackageFileSize: 10.26 MiB