Package: scTHI Version: 1.21.0 Command: /home/biocbuild/R/R/bin/R CMD INSTALL scTHI StartedAt: 2025-07-14 20:13:38 -0000 (Mon, 14 Jul 2025) EndedAt: 2025-07-14 20:14:17 -0000 (Mon, 14 Jul 2025) EllapsedTime: 39.1 seconds RetCode: 0 Status: OK