Package: scTHI Version: 1.21.0 Command: /home/biocbuild/R/R/bin/R CMD check --install=check:scTHI.install-out.txt --library=/home/biocbuild/R/R/site-library --no-vignettes --timings scTHI_1.21.0.tar.gz StartedAt: 2025-07-15 11:41:55 -0000 (Tue, 15 Jul 2025) EndedAt: 2025-07-15 11:42:52 -0000 (Tue, 15 Jul 2025) EllapsedTime: 57.1 seconds RetCode: 0 Status: OK CheckDir: scTHI.Rcheck Warnings: 0