Package: scTHI Version: 1.21.0 Command: F:\biocbuild\bbs-3.22-bioc\R\bin\R.exe CMD INSTALL scTHI StartedAt: 2025-07-17 15:38:08 -0400 (Thu, 17 Jul 2025) EndedAt: 2025-07-17 15:38:16 -0400 (Thu, 17 Jul 2025) EllapsedTime: 8.6 seconds RetCode: 0 Status: OK