Package: scTHI Version: 1.21.0 Command: F:\biocbuild\bbs-3.22-bioc\R\bin\R.exe CMD check --no-multiarch --install=check:scTHI.install-out.txt --library=F:\biocbuild\bbs-3.22-bioc\R\library --no-vignettes --timings scTHI_1.21.0.tar.gz StartedAt: 2025-07-19 06:36:13 -0400 (Sat, 19 Jul 2025) EndedAt: 2025-07-19 06:37:25 -0400 (Sat, 19 Jul 2025) EllapsedTime: 72.5 seconds RetCode: 0 Status: OK CheckDir: scTHI.Rcheck Warnings: 0