Package: scTHI Version: 1.21.0 Command: rm -rf scTHI.buildbin-libdir && mkdir scTHI.buildbin-libdir && F:\biocbuild\bbs-3.22-bioc\R\bin\R.exe CMD INSTALL --build --library=scTHI.buildbin-libdir scTHI_1.21.0.tar.gz StartedAt: 2025-07-18 09:58:19 -0400 (Fri, 18 Jul 2025) EndedAt: 2025-07-18 09:58:29 -0400 (Fri, 18 Jul 2025) EllapsedTime: 10.1 seconds RetCode: 0 Status: OK PackageFile: scTHI_1.21.0.zip PackageFileSize: 573.1 KiB