Package: scTHI Version: 1.21.0 Command: /Library/Frameworks/R.framework/Resources/bin/R CMD INSTALL scTHI StartedAt: 2025-07-07 15:06:40 -0400 (Mon, 07 Jul 2025) EndedAt: 2025-07-07 15:07:03 -0400 (Mon, 07 Jul 2025) EllapsedTime: 22.8 seconds RetCode: 0 Status: OK