Package: scTHI Version: 1.21.0 Command: /Library/Frameworks/R.framework/Resources/bin/R CMD check --install=check:scTHI.install-out.txt --library=/Library/Frameworks/R.framework/Resources/library --no-vignettes --timings scTHI_1.21.0.tar.gz StartedAt: 2025-07-07 23:28:14 -0400 (Mon, 07 Jul 2025) EndedAt: 2025-07-07 23:29:30 -0400 (Mon, 07 Jul 2025) EllapsedTime: 75.5 seconds RetCode: 0 Status: OK CheckDir: scTHI.Rcheck Warnings: 0