Package: scTHI Version: 1.21.0 Command: /Library/Frameworks/R.framework/Resources/bin/R CMD build --keep-empty-dirs --no-resave-data scTHI StartedAt: 2025-07-07 18:26:38 -0400 (Mon, 07 Jul 2025) EndedAt: 2025-07-07 18:27:51 -0400 (Mon, 07 Jul 2025) EllapsedTime: 73.0 seconds RetCode: 0 Status: OK PackageFile: scTHI_1.21.0.tar.gz PackageFileSize: 903.5 KiB